BEGIN:VCALENDAR
VERSION:2.0
PRODID:-//The Champions Course at Weeks Park - Wichita Falls, TX - ECPv6.15.20//NONSGML v1.0//EN
CALSCALE:GREGORIAN
METHOD:PUBLISH
X-WR-CALNAME:The Champions Course at Weeks Park - Wichita Falls, TX
X-ORIGINAL-URL:https://weeksparkgolf.com
X-WR-CALDESC:Events for The Champions Course at Weeks Park - Wichita Falls, TX
REFRESH-INTERVAL;VALUE=DURATION:PT1H
X-Robots-Tag:noindex
X-PUBLISHED-TTL:PT1H
BEGIN:VTIMEZONE
TZID:America/Chicago
BEGIN:DAYLIGHT
TZOFFSETFROM:-0600
TZOFFSETTO:-0500
TZNAME:CDT
DTSTART:20240310T080000
END:DAYLIGHT
BEGIN:STANDARD
TZOFFSETFROM:-0500
TZOFFSETTO:-0600
TZNAME:CST
DTSTART:20241103T070000
END:STANDARD
BEGIN:DAYLIGHT
TZOFFSETFROM:-0600
TZOFFSETTO:-0500
TZNAME:CDT
DTSTART:20250309T080000
END:DAYLIGHT
BEGIN:STANDARD
TZOFFSETFROM:-0500
TZOFFSETTO:-0600
TZNAME:CST
DTSTART:20251102T070000
END:STANDARD
BEGIN:DAYLIGHT
TZOFFSETFROM:-0600
TZOFFSETTO:-0500
TZNAME:CDT
DTSTART:20260308T080000
END:DAYLIGHT
BEGIN:STANDARD
TZOFFSETFROM:-0500
TZOFFSETTO:-0600
TZNAME:CST
DTSTART:20261101T070000
END:STANDARD
END:VTIMEZONE
BEGIN:VTIMEZONE
TZID:UTC
BEGIN:STANDARD
TZOFFSETFROM:+0000
TZOFFSETTO:+0000
TZNAME:UTC
DTSTART:20230101T000000
END:STANDARD
END:VTIMEZONE
BEGIN:VEVENT
DTSTART;TZID=America/Chicago:20250407T000000
DTEND;TZID=America/Chicago:20250408T235959
DTSTAMP:20260422T110110
CREATED:20250620T214511Z
LAST-MODIFIED:20250620T214511Z
UID:10000013-1743984000-1744156799@weeksparkgolf.com
SUMMARY:Greens Aerofication
DESCRIPTION:
URL:https://weeksparkgolf.com/event/greens-aerofication-3/
CATEGORIES:Tournament
END:VEVENT
BEGIN:VEVENT
DTSTART;TZID=America/Chicago:20250317T080000
DTEND;TZID=America/Chicago:20250324T000000
DTSTAMP:20260422T110110
CREATED:20250620T210802Z
LAST-MODIFIED:20250620T214511Z
UID:10000008-1742198400-1742774400@weeksparkgolf.com
SUMMARY:District High School
DESCRIPTION:Approx. 100 players
URL:https://weeksparkgolf.com/event/district-high-school/
CATEGORIES:Tournament
END:VEVENT
BEGIN:VEVENT
DTSTART;TZID=UTC:20250317T000000
DTEND;TZID=UTC:20250317T235959
DTSTAMP:20260422T110110
CREATED:20231122T042235Z
LAST-MODIFIED:20240517T174501Z
UID:10000006-1742169600-1742255999@weeksparkgolf.com
SUMMARY:Saint Patrick's Day
DESCRIPTION:
URL:https://weeksparkgolf.com/event/saint-patricks-day/
CATEGORIES:Holidays
END:VEVENT
BEGIN:VEVENT
DTSTART;TZID=America/Chicago:20250224T083000
DTEND;TZID=America/Chicago:20250226T000000
DTSTAMP:20260422T110110
CREATED:20250620T210801Z
LAST-MODIFIED:20250620T214511Z
UID:10000007-1740385800-1740528000@weeksparkgolf.com
SUMMARY:Rider High School
DESCRIPTION:Approx. 100 players
URL:https://weeksparkgolf.com/event/rider-high-school/
CATEGORIES:Tournament
END:VEVENT
BEGIN:VEVENT
DTSTART;TZID=UTC:20250101T000000
DTEND;TZID=UTC:20250101T235959
DTSTAMP:20260422T110110
CREATED:20231005T225327Z
LAST-MODIFIED:20240517T174523Z
UID:10000003-1735689600-1735775999@weeksparkgolf.com
SUMMARY:New Year's Eve
DESCRIPTION:
URL:https://weeksparkgolf.com/event/new-years-eve/
CATEGORIES:Holidays
END:VEVENT
BEGIN:VEVENT
DTSTART;TZID=UTC:20241225T000000
DTEND;TZID=UTC:20241225T235959
DTSTAMP:20260422T110110
CREATED:20231122T042203Z
LAST-MODIFIED:20240517T174549Z
UID:10000005-1735084800-1735171199@weeksparkgolf.com
SUMMARY:Christmas
DESCRIPTION:
URL:https://weeksparkgolf.com/event/christmas/
CATEGORIES:Holidays
END:VEVENT
END:VCALENDAR